BEGIN:VCALENDAR
VERSION:2.0
METHOD:PUBLISH
X-WR-CALNAME:Суть времени |  декабря 03 2012- декабря 03 2012
PRODID:-//strange bird labs//Drupal iCal API//EN
BEGIN:VEVENT
DTSTAMP;VALUE=DATE-TIME:20260423T213722Z
DTSTART;VALUE=DATE-TIME:20121126T210000Z
DTEND;VALUE=DATE-TIME:20121203T205600Z
UID:https://eot.su/node/13760
URL;VALUE=URI:https://eot.su/node/13760
SUMMARY:Фотовыставка \\"20 лет без СССР\\" в Брянске
DESCRIPTION:<p>27 ноября в Брянске стартовала фотовыставка \\"20 лет без СССР\\". </p>
 <p>В течение этой недели выставка будет проходить в Драмтеатра. Мы также планируем провести выставку на других площадках города Брянска. Подробнее о выставке и ее местоположении можно узнать по телефону 7-950-691-04-24.</p>
 
END:VEVENT
END:VCALENDAR
